BEGIN:VCALENDAR
VERSION:2.0
PRODID:Events Booking
BEGIN:VEVENT
UID:69ea6a4d84e2d
SUMMARY:III Simposio de Dirección de Proyectos #PMIRD 2024: Conectando Con
 strucción + Energía
DESCRIPTION:
DTSTART:20241128T123000Z
DTEND:20241128T230000Z
DTSTAMP:20240410T081358Z
ORGANIZER;CN=Dirección de Educación Continua PMIRD:MAILTO:Eventos@pmird.o
 rg.do
END:VEVENT
END:VCALENDAR