BEGIN:VCALENDAR
VERSION:2.0
PRODID:Events Booking
BEGIN:VEVENT
UID:69ea04a3348d4
SUMMARY:II Simposio de la Construcción #PMIRD 2023: Impulsando el Futuro
DESCRIPTION:
DTSTART:20230624T040000Z
DTEND:20230624T040000Z
DTSTAMP:20230324T044848Z
ORGANIZER;CN=Dirección de Educación Continua PMIRD:MAILTO:Eventos@pmird.o
 rg.do
END:VEVENT
END:VCALENDAR